BEGIN:VCALENDAR
VERSION:2.0
PRODID:-//Squarespace Inc/Squarespace 6//v6//EN
BEGIN:VEVENT
UID:59a60a88d482e987975c2928@squarespace.com
DTSTAMP:20170830T024625Z
DTSTART:20170830T010000Z
DTEND:20170830T020000Z
SUMMARY:General Event 1
END:VEVENT
END:VCALENDAR
