BEGIN:VCALENDAR
VERSION:2.0
PRODID:-//Squarespace Inc/Squarespace 6//v6//EN
BEGIN:VEVENT
UID:59f0143832601e51d72eede0@squarespace.com
DTSTAMP:20171025T043546Z
DTSTART:20171105T010000Z
DTEND:20171105T050000Z
SUMMARY:Sutton's Beach & Picnic with Sam $4
END:VEVENT
END:VCALENDAR
