BEGIN:VCALENDAR
VERSION:2.0
PRODID:-//Squarespace Inc/Squarespace 6//v6//EN
BEGIN:VEVENT
UID:59f012d6e9bfdfb6e4078912@squarespace.com
DTSTAMP:20171025T043031Z
DTSTART:20171103T063000Z
DTEND:20171103T080000Z
SUMMARY:Sings Asian Restaurant with Viv $18
END:VEVENT
END:VCALENDAR
