BEGIN:VCALENDAR
VERSION:2.0
PRODID:-//Squarespace Inc/Squarespace 6//v6//EN
BEGIN:VEVENT
UID:59f0250c268b96523aef4e5e@squarespace.com
DTSTAMP:20171025T054729Z
DTSTART:20171119T010000Z
DTEND:20171119T050000Z
SUMMARY:Ten Pin Bowling with Jessie ($12.80)
END:VEVENT
END:VCALENDAR
