BEGIN:VCALENDAR
VERSION:2.0
PRODID:-//Squarespace Inc/Squarespace 6//v6//EN
BEGIN:VEVENT
UID:59f01778ace864986c48f01b@squarespace.com
DTSTAMP:20171025T053432Z
DTSTART:20171111T010000Z
DTEND:20171111T060000Z
SUMMARY:Slaughter Falls & BBQ with Yelena
END:VEVENT
END:VCALENDAR
