BEGIN:VCALENDAR
VERSION:2.0
PRODID:-//Squarespace Inc/Squarespace 6//v6//EN
BEGIN:VEVENT
UID:59f02279f14aa1790f689c99@squarespace.com
DTSTAMP:20171025T060157Z
DTSTART:20171112T010000Z
DTEND:20171112T050000Z
SUMMARY:Kalinga Park & BBQ with Rebecca ($4)
END:VEVENT
END:VCALENDAR
